BEGIN:VCALENDAR
VERSION:2.0
PRODID:-//Balanced Life Wellness Centre - ECPv6.9.0//NONSGML v1.0//EN
CALSCALE:GREGORIAN
METHOD:PUBLISH
X-WR-CALNAME:Balanced Life Wellness Centre
X-ORIGINAL-URL:https://blwc.ca
X-WR-CALDESC:Events for Balanced Life Wellness Centre
REFRESH-INTERVAL;VALUE=DURATION:PT1H
X-Robots-Tag:noindex
X-PUBLISHED-TTL:PT1H
BEGIN:VTIMEZONE
TZID:America/Toronto
BEGIN:DAYLIGHT
TZOFFSETFROM:-0500
TZOFFSETTO:-0400
TZNAME:EDT
DTSTART:20230312T070000
END:DAYLIGHT
BEGIN:STANDARD
TZOFFSETFROM:-0400
TZOFFSETTO:-0500
TZNAME:EST
DTSTART:20231105T060000
END:STANDARD
END:VTIMEZONE
BEGIN:VEVENT
DTSTART;TZID=America/Toronto:20230326T103000
DTEND;TZID=America/Toronto:20230326T143000
DTSTAMP:20260419T093705
CREATED:20230313T033240Z
LAST-MODIFIED:20230313T033240Z
UID:1762-1679826600-1679841000@blwc.ca
SUMMARY:Half-Day Yoga Retreat w/Kelly Henley (March 26\, 2023)
DESCRIPTION:Half-Day Yoga Retreat w/Kelly Henley\nHosted by: Balanced Life Wellness Centre\nWith: Kelly Henley\nDate/Time: Sunday\, March 26th\, 2023 from 10:30am – 2:30pm\nLength: 4hr in-person event\nCapacity: 8-10 guests \nDescription: Join us for this half-day retreat\, where we’ll engage in practices that inspire us to lean into change\, dream ahead\, and walk away feeling revived and reinvigorated! What’s Included: Yoga\, meditation\, guided journaling prompts\, vegan lunch and snacks\, and a spring-themed craft! \nCost: $75 Space is limited\, and full payment is required to secure your spot. \nPre-registration is required: brightyoga@hotmail.com
URL:https://blwc.ca/event/half-day-yoga-retreat-w-kelly-henley-march-26-2023/
LOCATION:Balanced Life Wellness Centre\, 114 Talbot St. South\, Essex\, Ontario\, N8M 1B2\, Canada
CATEGORIES:Events,Retreat
ATTACH;FMTTYPE=image/png:https://blwc.ca/wp-content/uploads/2023/03/Half-Day-Retreat.png
END:VEVENT
END:VCALENDAR