BEGIN:VCALENDAR
VERSION:2.0
PRODID:-//Balanced Life Wellness Centre - ECPv6.9.0//NONSGML v1.0//EN
CALSCALE:GREGORIAN
METHOD:PUBLISH
X-ORIGINAL-URL:https://blwc.ca
X-WR-CALDESC:Events for Balanced Life Wellness Centre
REFRESH-INTERVAL;VALUE=DURATION:PT1H
X-Robots-Tag:noindex
X-PUBLISHED-TTL:PT1H
BEGIN:VTIMEZONE
TZID:America/Toronto
BEGIN:DAYLIGHT
TZOFFSETFROM:-0500
TZOFFSETTO:-0400
TZNAME:EDT
DTSTART:20260308T070000
END:DAYLIGHT
BEGIN:STANDARD
TZOFFSETFROM:-0400
TZOFFSETTO:-0500
TZNAME:EST
DTSTART:20261101T060000
END:STANDARD
END:VTIMEZONE
BEGIN:VEVENT
DTSTART;TZID=America/Toronto:20260329T130000
DTEND;TZID=America/Toronto:20260329T150000
DTSTAMP:20260421T145635
CREATED:20251217T032624Z
LAST-MODIFIED:20251217T032939Z
UID:2890-1774789200-1774796400@blwc.ca
SUMMARY:Writer's Assembly (Mar 29th\, 2026)
DESCRIPTION:Writer’s Assembly\nWriting & Body Flow\nHosted by: Balanced Life Wellness Centre\nWith: Sharon Singh\nDate/Time: Sunday March 29th\, 2026 / 1:00-3:00pm \nCost: $30/person (sign up & pay by March 23rd) \nDescription: Discover the important connection between the nervous system and creativity in the body. Also learn about hypnotherapy and meditation as tools to strengthen your writing. This workshop is for emerging and established writers. \nTo register and pay\, please email: shieldsvanessa@gmail.com
URL:https://blwc.ca/event/writers-assembly-mar-2026/
LOCATION:Balanced Life Wellness Centre\, 114 Talbot St. South\, Essex\, Ontario\, N8M 1B2\, Canada
CATEGORIES:Workshop
ATTACH;FMTTYPE=image/jpeg:https://blwc.ca/wp-content/uploads/2025/12/WA_March_2026.jpeg
END:VEVENT
END:VCALENDAR