BEGIN:VCALENDAR
VERSION:2.0
PRODID:-//Balanced Life Wellness Centre - ECPv6.9.0//NONSGML v1.0//EN
CALSCALE:GREGORIAN
METHOD:PUBLISH
X-ORIGINAL-URL:https://blwc.ca
X-WR-CALDESC:Events for Balanced Life Wellness Centre
REFRESH-INTERVAL;VALUE=DURATION:PT1H
X-Robots-Tag:noindex
X-PUBLISHED-TTL:PT1H
BEGIN:VTIMEZONE
TZID:America/Toronto
BEGIN:DAYLIGHT
TZOFFSETFROM:-0500
TZOFFSETTO:-0400
TZNAME:EDT
DTSTART:20250309T070000
END:DAYLIGHT
BEGIN:STANDARD
TZOFFSETFROM:-0400
TZOFFSETTO:-0500
TZNAME:EST
DTSTART:20251102T060000
END:STANDARD
END:VTIMEZONE
BEGIN:VEVENT
DTSTART;TZID=America/Toronto:20251123T184500
DTEND;TZID=America/Toronto:20251123T200000
DTSTAMP:20260421T090106
CREATED:20250820T233756Z
LAST-MODIFIED:20250820T233804Z
UID:2797-1763923500-1763928000@blwc.ca
SUMMARY:Restorative Yoga w/Jan Ellis (Nov 23rd\, 2025)
DESCRIPTION:Restorative & Meditative Yoga w/Jan Ellis\nHosted by: Balanced Life Wellness Centre\nWith: Janet Ellis\nDate/Time: fall sessions: Sunday Sept 21st\, Oct 19th\, Nov 23rd from 6:45-8:00pm\nLength: 60mins\nCapacity: 8-10 guests \nDescription: Melt away stress and find your center with a gentle restorative yoga class focused on relaxation and mindfulness. Suitable for beginners and practitioners of all level. \nCost: $25/session or 3 classes for $60 \nPre-registration is required: mbsbyjan@gmail.com or text 519.890.3711
URL:https://blwc.ca/event/restorative-yoga-w-jan-ellis-nov2025/
LOCATION:Balanced Life Wellness Centre\, 114 Talbot St. South\, Essex\, Ontario\, N8M 1B2\, Canada
CATEGORIES:Meditation,Yoga
ATTACH;FMTTYPE=image/png:https://blwc.ca/wp-content/uploads/2025/08/Black-and-White-Minimalist-Yoga-Class-Instagram-Post.png
END:VEVENT
END:VCALENDAR